BEGIN:VCALENDAR
VERSION:2.0
PRODID:-//PF Classical - ECPv6.15.18//NONSGML v1.0//EN
CALSCALE:GREGORIAN
METHOD:PUBLISH
X-ORIGINAL-URL:https://pfclassical.org
X-WR-CALDESC:Events for PF Classical
REFRESH-INTERVAL;VALUE=DURATION:PT1H
X-Robots-Tag:noindex
X-PUBLISHED-TTL:PT1H
BEGIN:VTIMEZONE
TZID:America/New_York
BEGIN:DAYLIGHT
TZOFFSETFROM:-0500
TZOFFSETTO:-0400
TZNAME:EDT
DTSTART:20240310T070000
END:DAYLIGHT
BEGIN:STANDARD
TZOFFSETFROM:-0400
TZOFFSETTO:-0500
TZNAME:EST
DTSTART:20241103T060000
END:STANDARD
BEGIN:DAYLIGHT
TZOFFSETFROM:-0500
TZOFFSETTO:-0400
TZNAME:EDT
DTSTART:20250309T070000
END:DAYLIGHT
BEGIN:STANDARD
TZOFFSETFROM:-0400
TZOFFSETTO:-0500
TZNAME:EST
DTSTART:20251102T060000
END:STANDARD
BEGIN:DAYLIGHT
TZOFFSETFROM:-0500
TZOFFSETTO:-0400
TZNAME:EDT
DTSTART:20260308T070000
END:DAYLIGHT
BEGIN:STANDARD
TZOFFSETFROM:-0400
TZOFFSETTO:-0500
TZNAME:EST
DTSTART:20261101T060000
END:STANDARD
END:VTIMEZONE
BEGIN:VEVENT
DTSTART;TZID=America/New_York:20250221T110000
DTEND;TZID=America/New_York:20250221T120000
DTSTAMP:20260420T000015
CREATED:20250213T163809Z
LAST-MODIFIED:20250213T163809Z
UID:10010213-1740135600-1740139200@pfclassical.org
SUMMARY:Mount Dora\, FL Concert
DESCRIPTION:A Piatigorsky Foundation Concert is a free 1-hour performance by professional classical music artist(s). The informal concerts are both entertaining and informative\, the artists share anecdotes and insights into the works they will perform. All concert times are in local time.This concert is open to the publicSponsored by Mount Dora Library Association \nArtist(s):\nVictor Asuncion\, PianoEvan Drachman\, Cello
URL:https://pfclassical.org/event/mount-dora-fl-concert/
LOCATION:W.T. Bland Public Library\, 1995 N Donnelly St.\, Mount Dora\, FL\, 32757\, United States
GEO:28.8138737;-81.6456569
X-APPLE-STRUCTURED-LOCATION;VALUE=URI;X-ADDRESS=W.T. Bland Public Library 1995 N Donnelly St. Mount Dora FL 32757 United States;X-APPLE-RADIUS=500;X-TITLE=1995 N Donnelly St.:geo:-81.6456569,28.8138737
END:VEVENT
END:VCALENDAR