BEGIN:VCALENDAR
VERSION:2.0
PRODID:-//PF Classical - ECPv6.15.18//NONSGML v1.0//EN
CALSCALE:GREGORIAN
METHOD:PUBLISH
X-WR-CALNAME:PF Classical
X-ORIGINAL-URL:https://pfclassical.org
X-WR-CALDESC:Events for PF Classical
REFRESH-INTERVAL;VALUE=DURATION:PT1H
X-Robots-Tag:noindex
X-PUBLISHED-TTL:PT1H
BEGIN:VTIMEZONE
TZID:America/New_York
BEGIN:DAYLIGHT
TZOFFSETFROM:-0500
TZOFFSETTO:-0400
TZNAME:EDT
DTSTART:20240310T070000
END:DAYLIGHT
BEGIN:STANDARD
TZOFFSETFROM:-0400
TZOFFSETTO:-0500
TZNAME:EST
DTSTART:20241103T060000
END:STANDARD
BEGIN:DAYLIGHT
TZOFFSETFROM:-0500
TZOFFSETTO:-0400
TZNAME:EDT
DTSTART:20250309T070000
END:DAYLIGHT
BEGIN:STANDARD
TZOFFSETFROM:-0400
TZOFFSETTO:-0500
TZNAME:EST
DTSTART:20251102T060000
END:STANDARD
BEGIN:DAYLIGHT
TZOFFSETFROM:-0500
TZOFFSETTO:-0400
TZNAME:EDT
DTSTART:20260308T070000
END:DAYLIGHT
BEGIN:STANDARD
TZOFFSETFROM:-0400
TZOFFSETTO:-0500
TZNAME:EST
DTSTART:20261101T060000
END:STANDARD
END:VTIMEZONE
BEGIN:VEVENT
DTSTART;TZID=America/New_York:20250223T180000
DTEND;TZID=America/New_York:20250223T190000
DTSTAMP:20260421T010528
CREATED:20250213T163809Z
LAST-MODIFIED:20250213T163809Z
UID:10010211-1740333600-1740337200@pfclassical.org
SUMMARY:Juno Beach\, FL Concert
DESCRIPTION:A Piatigorsky Foundation Concert is a free 1-hour performance by professional classical music artist(s). The informal concerts are both entertaining and informative\, the artists share anecdotes and insights into the works they will perform. All concert times are in local time.This concert is not open to the public \nArtist(s):\nEvan Drachman\, CelloVictor Asuncion\, Piano
URL:https://pfclassical.org/event/juno-beach-fl-concert/
LOCATION:The Waterford (Juno Beach)\, 601 Universe Boulevard\, Juno Beach\, FL\, 33408\, United States
GEO:26.8576489;-80.0585665
X-APPLE-STRUCTURED-LOCATION;VALUE=URI;X-ADDRESS=The Waterford (Juno Beach) 601 Universe Boulevard Juno Beach FL 33408 United States;X-APPLE-RADIUS=500;X-TITLE=601 Universe Boulevard:geo:-80.0585665,26.8576489
END:VEVENT
END:VCALENDAR