BEGIN:VCALENDAR
VERSION:2.0
PRODID:-//PF Classical - ECPv6.15.18//NONSGML v1.0//EN
CALSCALE:GREGORIAN
METHOD:PUBLISH
X-WR-CALNAME:PF Classical
X-ORIGINAL-URL:https://pfclassical.org
X-WR-CALDESC:Events for PF Classical
REFRESH-INTERVAL;VALUE=DURATION:PT1H
X-Robots-Tag:noindex
X-PUBLISHED-TTL:PT1H
BEGIN:VTIMEZONE
TZID:America/Denver
BEGIN:DAYLIGHT
TZOFFSETFROM:-0700
TZOFFSETTO:-0600
TZNAME:MDT
DTSTART:20240310T090000
END:DAYLIGHT
BEGIN:STANDARD
TZOFFSETFROM:-0600
TZOFFSETTO:-0700
TZNAME:MST
DTSTART:20241103T080000
END:STANDARD
BEGIN:DAYLIGHT
TZOFFSETFROM:-0700
TZOFFSETTO:-0600
TZNAME:MDT
DTSTART:20250309T090000
END:DAYLIGHT
BEGIN:STANDARD
TZOFFSETFROM:-0600
TZOFFSETTO:-0700
TZNAME:MST
DTSTART:20251102T080000
END:STANDARD
BEGIN:DAYLIGHT
TZOFFSETFROM:-0700
TZOFFSETTO:-0600
TZNAME:MDT
DTSTART:20260308T090000
END:DAYLIGHT
BEGIN:STANDARD
TZOFFSETFROM:-0600
TZOFFSETTO:-0700
TZNAME:MST
DTSTART:20261101T080000
END:STANDARD
END:VTIMEZONE
BEGIN:VEVENT
DTSTART;TZID=America/Denver:20250119T140000
DTEND;TZID=America/Denver:20250119T150000
DTSTAMP:20260421T222323
CREATED:20250123T040451Z
LAST-MODIFIED:20250123T040451Z
UID:10010103-1737295200-1737298800@pfclassical.org
SUMMARY:Truth or Consequences\, NM Concert
DESCRIPTION:A Piatigorsky Foundation Concert is a free 1-hour performance by professional classical music artist(s). The informal concerts are both entertaining and informative\, the artists share anecdotes and insights into the works they will perform. All concert times are in local time.This concert is open to the publicSponsored by Sierra County Arts Council \nArtist(s):\nLinda Rosenthal\, ViolinMaxim Pakhomov\, Piano
URL:https://pfclassical.org/event/truth-or-consequences-nm-concert/
LOCATION:The Lighthouse\, 124 Austin Street\, Truth or Consequences\, NM\, 87901\, United States
GEO:33.1274149;-107.2515168
X-APPLE-STRUCTURED-LOCATION;VALUE=URI;X-ADDRESS=The Lighthouse 124 Austin Street Truth or Consequences NM 87901 United States;X-APPLE-RADIUS=500;X-TITLE=124 Austin Street:geo:-107.2515168,33.1274149
END:VEVENT
END:VCALENDAR