BEGIN:VCALENDAR
VERSION:2.0
PRODID:-//PF Classical - ECPv6.15.18//NONSGML v1.0//EN
CALSCALE:GREGORIAN
METHOD:PUBLISH
X-WR-CALNAME:PF Classical
X-ORIGINAL-URL:https://pfclassical.org
X-WR-CALDESC:Events for PF Classical
REFRESH-INTERVAL;VALUE=DURATION:PT1H
X-Robots-Tag:noindex
X-PUBLISHED-TTL:PT1H
BEGIN:VTIMEZONE
TZID:UTC
BEGIN:STANDARD
TZOFFSETFROM:+0000
TZOFFSETTO:+0000
TZNAME:UTC
DTSTART:20230101T000000
END:STANDARD
END:VTIMEZONE
BEGIN:VEVENT
DTSTART;TZID=UTC:20241018T170000
DTEND;TZID=UTC:20241018T180000
DTSTAMP:20260422T183550
CREATED:20250123T040500Z
LAST-MODIFIED:20250123T040500Z
UID:10010146-1729270800-1729274400@pfclassical.org
SUMMARY:Shoshoni\, WY Concert
DESCRIPTION:A Piatigorsky Foundation Concert is a free 1-hour performance by professional classical music artist(s). The informal concerts are both entertaining and informative\, the artists share anecdotes and insights into the works they will perform. All concert times are in local time.This concert is open to the publicSponsored by The Muriel & Seymour Thickman Family Charitable Foundation \nArtist(s):\nKatsuya Yuasa\, ClarinetMary Au\, Piano
URL:https://pfclassical.org/event/shoshoni-wy-concert/
LOCATION:Shoshoni Senior Center\, 214 E. 2nd Street\, Shoshoni\, WY\, 82649\, United States
GEO:43.2359507;-108.1081368
X-APPLE-STRUCTURED-LOCATION;VALUE=URI;X-ADDRESS=Shoshoni Senior Center 214 E. 2nd Street Shoshoni WY 82649 United States;X-APPLE-RADIUS=500;X-TITLE=214 E. 2nd Street:geo:-108.1081368,43.2359507
END:VEVENT
END:VCALENDAR