BEGIN:VCALENDAR
VERSION:2.0
PRODID:-//PF Classical - ECPv6.15.18//NONSGML v1.0//EN
CALSCALE:GREGORIAN
METHOD:PUBLISH
X-ORIGINAL-URL:https://pfclassical.org
X-WR-CALDESC:Events for PF Classical
REFRESH-INTERVAL;VALUE=DURATION:PT1H
X-Robots-Tag:noindex
X-PUBLISHED-TTL:PT1H
BEGIN:VTIMEZONE
TZID:America/Los_Angeles
BEGIN:DAYLIGHT
TZOFFSETFROM:-0800
TZOFFSETTO:-0700
TZNAME:PDT
DTSTART:20240310T100000
END:DAYLIGHT
BEGIN:STANDARD
TZOFFSETFROM:-0700
TZOFFSETTO:-0800
TZNAME:PST
DTSTART:20241103T090000
END:STANDARD
BEGIN:DAYLIGHT
TZOFFSETFROM:-0800
TZOFFSETTO:-0700
TZNAME:PDT
DTSTART:20250309T100000
END:DAYLIGHT
BEGIN:STANDARD
TZOFFSETFROM:-0700
TZOFFSETTO:-0800
TZNAME:PST
DTSTART:20251102T090000
END:STANDARD
BEGIN:DAYLIGHT
TZOFFSETFROM:-0800
TZOFFSETTO:-0700
TZNAME:PDT
DTSTART:20260308T100000
END:DAYLIGHT
BEGIN:STANDARD
TZOFFSETFROM:-0700
TZOFFSETTO:-0800
TZNAME:PST
DTSTART:20261101T090000
END:STANDARD
END:VTIMEZONE
BEGIN:VEVENT
DTSTART;TZID=America/Los_Angeles:20250402T141500
DTEND;TZID=America/Los_Angeles:20250402T151500
DTSTAMP:20260421T160528
CREATED:20250402T150349Z
LAST-MODIFIED:20250402T150349Z
UID:10010386-1743603300-1743606900@pfclassical.org
SUMMARY:Sebastopol\, CA Concert
DESCRIPTION:A Piatigorsky Foundation Concert is a free 1-hour performance by professional classical music artist(s). The informal concerts are both entertaining and informative\, the artists share anecdotes and insights into the works they will perform. All concert times are in local time.This concert is not open to the public \nArtist(s):\nEvan Drachman\, CelloLisa Bergman\, Piano
URL:https://pfclassical.org/event/sebastopol-ca-concert-2/
LOCATION:Sebastopol Public Charter Waldorf School\, 1111 Gravenstein Highway N.\, Sebastopol\, CA\, 95472\, United States
GEO:38.4121171;-122.8422983
X-APPLE-STRUCTURED-LOCATION;VALUE=URI;X-ADDRESS=Sebastopol Public Charter Waldorf School 1111 Gravenstein Highway N. Sebastopol CA 95472 United States;X-APPLE-RADIUS=500;X-TITLE=1111 Gravenstein Highway N.:geo:-122.8422983,38.4121171
END:VEVENT
BEGIN:VEVENT
DTSTART;TZID=America/Los_Angeles:20250402T132500
DTEND;TZID=America/Los_Angeles:20250402T142500
DTSTAMP:20260421T160528
CREATED:20250402T150349Z
LAST-MODIFIED:20250402T150349Z
UID:10010387-1743600300-1743603900@pfclassical.org
SUMMARY:Sebastopol\, CA Concert
DESCRIPTION:A Piatigorsky Foundation Concert is a free 1-hour performance by professional classical music artist(s). The informal concerts are both entertaining and informative\, the artists share anecdotes and insights into the works they will perform. All concert times are in local time.This concert is not open to the public \nArtist(s):\nEvan Drachman\, CelloLisa Bergman\, Piano
URL:https://pfclassical.org/event/sebastopol-ca-concert-3/
LOCATION:Sebastopol Public Charter Waldorf School\, 1111 Gravenstein Highway N.\, Sebastopol\, CA\, 95472\, United States
GEO:38.4121171;-122.8422983
X-APPLE-STRUCTURED-LOCATION;VALUE=URI;X-ADDRESS=Sebastopol Public Charter Waldorf School 1111 Gravenstein Highway N. Sebastopol CA 95472 United States;X-APPLE-RADIUS=500;X-TITLE=1111 Gravenstein Highway N.:geo:-122.8422983,38.4121171
END:VEVENT
END:VCALENDAR