BEGIN:VCALENDAR
VERSION:2.0
PRODID:-//PF Classical - ECPv6.15.18//NONSGML v1.0//EN
CALSCALE:GREGORIAN
METHOD:PUBLISH
X-WR-CALNAME:PF Classical
X-ORIGINAL-URL:https://pfclassical.org
X-WR-CALDESC:Events for PF Classical
REFRESH-INTERVAL;VALUE=DURATION:PT1H
X-Robots-Tag:noindex
X-PUBLISHED-TTL:PT1H
BEGIN:VTIMEZONE
TZID:America/Kentucky/Louisville
BEGIN:DAYLIGHT
TZOFFSETFROM:-0500
TZOFFSETTO:-0400
TZNAME:EDT
DTSTART:20240310T070000
END:DAYLIGHT
BEGIN:STANDARD
TZOFFSETFROM:-0400
TZOFFSETTO:-0500
TZNAME:EST
DTSTART:20241103T060000
END:STANDARD
BEGIN:DAYLIGHT
TZOFFSETFROM:-0500
TZOFFSETTO:-0400
TZNAME:EDT
DTSTART:20250309T070000
END:DAYLIGHT
BEGIN:STANDARD
TZOFFSETFROM:-0400
TZOFFSETTO:-0500
TZNAME:EST
DTSTART:20251102T060000
END:STANDARD
BEGIN:DAYLIGHT
TZOFFSETFROM:-0500
TZOFFSETTO:-0400
TZNAME:EDT
DTSTART:20260308T070000
END:DAYLIGHT
BEGIN:STANDARD
TZOFFSETFROM:-0400
TZOFFSETTO:-0500
TZNAME:EST
DTSTART:20261101T060000
END:STANDARD
END:VTIMEZONE
BEGIN:VTIMEZONE
TZID:UTC
BEGIN:STANDARD
TZOFFSETFROM:+0000
TZOFFSETTO:+0000
TZNAME:UTC
DTSTART:20230101T000000
END:STANDARD
END:VTIMEZONE
BEGIN:VEVENT
DTSTART;TZID=America/Kentucky/Louisville:20251031T130000
DTEND;TZID=America/Kentucky/Louisville:20251031T140000
DTSTAMP:20260422T032745
CREATED:20251031T080031Z
LAST-MODIFIED:20251031T080031Z
UID:10011653-1761915600-1761919200@pfclassical.org
SUMMARY:Willoughby\, OH Concert
DESCRIPTION:A Piatigorsky Foundation Concert is a free 1-hour performance by professional classical music artist(s). \nThis concert is not open to the public. \nArtist(s):\nQing Li\, ViolinVladimir Valjarević\, Piano
URL:https://pfclassical.org/event/willoughby-oh-concert-2/
LOCATION:Ohio Living Breckenridge Village\, 36855 Ridge Road\, Willoughby\, OH\, 44094\, United States
GEO:41.6198085;-81.4242069
X-APPLE-STRUCTURED-LOCATION;VALUE=URI;X-ADDRESS=Ohio Living Breckenridge Village 36855 Ridge Road Willoughby OH 44094 United States;X-APPLE-RADIUS=500;X-TITLE=36855 Ridge Road:geo:-81.4242069,41.6198085
END:VEVENT
BEGIN:VEVENT
DTSTART;TZID=UTC:20241018T140000
DTEND;TZID=UTC:20241018T150000
DTSTAMP:20260422T032745
CREATED:20250123T040500Z
LAST-MODIFIED:20250123T040500Z
UID:10010147-1729260000-1729263600@pfclassical.org
SUMMARY:Willoughby\, OH Concert
DESCRIPTION:A Piatigorsky Foundation Concert is a free 1-hour performance by professional classical music artist(s). The informal concerts are both entertaining and informative\, the artists share anecdotes and insights into the works they will perform. All concert times are in local time.This concert is not open to the public \nArtist(s):\nLinda Rosenthal\, ViolinMaxim Pakhomov\, Piano
URL:https://pfclassical.org/event/willoughby-oh-concert/
LOCATION:Ohio Living Breckenridge Village\, 36855 Ridge Road\, Willoughby\, OH\, 44094\, United States
GEO:41.6198085;-81.4242069
X-APPLE-STRUCTURED-LOCATION;VALUE=URI;X-ADDRESS=Ohio Living Breckenridge Village 36855 Ridge Road Willoughby OH 44094 United States;X-APPLE-RADIUS=500;X-TITLE=36855 Ridge Road:geo:-81.4242069,41.6198085
END:VEVENT
END:VCALENDAR