BEGIN:VCALENDAR
VERSION:2.0
PRODID:-//PF Classical - ECPv6.15.18//NONSGML v1.0//EN
CALSCALE:GREGORIAN
METHOD:PUBLISH
X-ORIGINAL-URL:https://pfclassical.org
X-WR-CALDESC:Events for PF Classical
REFRESH-INTERVAL;VALUE=DURATION:PT1H
X-Robots-Tag:noindex
X-PUBLISHED-TTL:PT1H
BEGIN:VTIMEZONE
TZID:America/Chicago
BEGIN:DAYLIGHT
TZOFFSETFROM:-0600
TZOFFSETTO:-0500
TZNAME:CDT
DTSTART:20240310T080000
END:DAYLIGHT
BEGIN:STANDARD
TZOFFSETFROM:-0500
TZOFFSETTO:-0600
TZNAME:CST
DTSTART:20241103T070000
END:STANDARD
BEGIN:DAYLIGHT
TZOFFSETFROM:-0600
TZOFFSETTO:-0500
TZNAME:CDT
DTSTART:20250309T080000
END:DAYLIGHT
BEGIN:STANDARD
TZOFFSETFROM:-0500
TZOFFSETTO:-0600
TZNAME:CST
DTSTART:20251102T070000
END:STANDARD
BEGIN:DAYLIGHT
TZOFFSETFROM:-0600
TZOFFSETTO:-0500
TZNAME:CDT
DTSTART:20260308T080000
END:DAYLIGHT
BEGIN:STANDARD
TZOFFSETFROM:-0500
TZOFFSETTO:-0600
TZNAME:CST
DTSTART:20261101T070000
END:STANDARD
BEGIN:DAYLIGHT
TZOFFSETFROM:-0600
TZOFFSETTO:-0500
TZNAME:CDT
DTSTART:20270314T080000
END:DAYLIGHT
BEGIN:STANDARD
TZOFFSETFROM:-0500
TZOFFSETTO:-0600
TZNAME:CST
DTSTART:20271107T070000
END:STANDARD
END:VTIMEZONE
BEGIN:VTIMEZONE
TZID:UTC
BEGIN:STANDARD
TZOFFSETFROM:+0000
TZOFFSETTO:+0000
TZNAME:UTC
DTSTART:20230101T000000
END:STANDARD
END:VTIMEZONE
BEGIN:VEVENT
DTSTART;TZID=America/Chicago:20260109T130000
DTEND;TZID=America/Chicago:20260109T140000
DTSTAMP:20260419T141520
CREATED:20260109T083216Z
LAST-MODIFIED:20260109T083216Z
UID:10012299-1767963600-1767967200@pfclassical.org
SUMMARY:New Orleans\, LA Concert
DESCRIPTION:A Piatigorsky Foundation Concert is a free 1-hour performance by professional classical music artist(s). \nThis concert is open to the public. \nArtist(s):\nKelly Burns\, TenorNicholas Shaneyfelt\, Piano
URL:https://pfclassical.org/event/new-orleans-la-concert-8/
LOCATION:New Orleans Jewish Community Center\, 5342 St. Charles Avenue\, New Orleans\, LA\, 70115\, United States
GEO:29.927357;-90.112895
X-APPLE-STRUCTURED-LOCATION;VALUE=URI;X-ADDRESS=New Orleans Jewish Community Center 5342 St. Charles Avenue New Orleans LA 70115 United States;X-APPLE-RADIUS=500;X-TITLE=5342 St. Charles Avenue:geo:-90.112895,29.927357
END:VEVENT
BEGIN:VEVENT
DTSTART;TZID=America/Chicago:20251113T130000
DTEND;TZID=America/Chicago:20251113T140000
DTSTAMP:20260419T141520
CREATED:20251113T075150Z
LAST-MODIFIED:20251113T075150Z
UID:10011754-1763038800-1763042400@pfclassical.org
SUMMARY:New Orleans\, LA Concert
DESCRIPTION:A Piatigorsky Foundation Concert is a free 1-hour performance by professional classical music artist(s). \nThis concert is open to the public. \nArtist(s):\nEvan Drachman\, CelloRichard Dowling\, Piano
URL:https://pfclassical.org/event/new-orleans-la-concert-7/
LOCATION:New Orleans Jewish Community Center\, 5342 St. Charles Avenue\, New Orleans\, LA\, 70115\, United States
GEO:29.927357;-90.112895
X-APPLE-STRUCTURED-LOCATION;VALUE=URI;X-ADDRESS=New Orleans Jewish Community Center 5342 St. Charles Avenue New Orleans LA 70115 United States;X-APPLE-RADIUS=500;X-TITLE=5342 St. Charles Avenue:geo:-90.112895,29.927357
END:VEVENT
BEGIN:VEVENT
DTSTART;TZID=America/Chicago:20250522T130000
DTEND;TZID=America/Chicago:20250522T140000
DTSTAMP:20260419T141520
CREATED:20250512T134831Z
LAST-MODIFIED:20250512T134831Z
UID:10010535-1747918800-1747922400@pfclassical.org
SUMMARY:New Orleans\, LA Concert
DESCRIPTION:A Piatigorsky Foundation Concert is a free 1-hour performance by professional classical music artist(s). The informal concerts are both entertaining and informative\, the artists share anecdotes and insights into the works they will perform. All concert times are in local time.This concert is open to the public \nArtist(s):\nQing Li\, ViolinMin Young Park\, Piano
URL:https://pfclassical.org/event/new-orleans-la-concert-4/
LOCATION:New Orleans Jewish Community Center\, 5342 St. Charles Avenue\, New Orleans\, LA\, 70115\, United States
GEO:29.927357;-90.112895
X-APPLE-STRUCTURED-LOCATION;VALUE=URI;X-ADDRESS=New Orleans Jewish Community Center 5342 St. Charles Avenue New Orleans LA 70115 United States;X-APPLE-RADIUS=500;X-TITLE=5342 St. Charles Avenue:geo:-90.112895,29.927357
END:VEVENT
BEGIN:VEVENT
DTSTART;TZID=UTC:20240926T130000
DTEND;TZID=UTC:20240926T140000
DTSTAMP:20260419T141520
CREATED:20250123T040501Z
LAST-MODIFIED:20250123T040501Z
UID:10010153-1727355600-1727359200@pfclassical.org
SUMMARY:New Orleans\, LA Concert
DESCRIPTION:A Piatigorsky Foundation Concert is a free 1-hour performance by professional classical music artist(s). The informal concerts are both entertaining and informative\, the artists share anecdotes and insights into the works they will perform. All concert times are in local time.This concert is open to the public \nArtist(s):\nKelly Burns\, TenorNicholas Shaneyfelt\, Piano
URL:https://pfclassical.org/event/new-orleans-la-concert/
LOCATION:New Orleans Jewish Community Center\, 5342 St. Charles Avenue\, New Orleans\, LA\, 70115\, United States
GEO:29.927357;-90.112895
X-APPLE-STRUCTURED-LOCATION;VALUE=URI;X-ADDRESS=New Orleans Jewish Community Center 5342 St. Charles Avenue New Orleans LA 70115 United States;X-APPLE-RADIUS=500;X-TITLE=5342 St. Charles Avenue:geo:-90.112895,29.927357
END:VEVENT
END:VCALENDAR