BEGIN:VCALENDAR
VERSION:2.0
PRODID:-//PF Classical - ECPv6.15.18//NONSGML v1.0//EN
CALSCALE:GREGORIAN
METHOD:PUBLISH
X-ORIGINAL-URL:https://pfclassical.org
X-WR-CALDESC:Events for PF Classical
REFRESH-INTERVAL;VALUE=DURATION:PT1H
X-Robots-Tag:noindex
X-PUBLISHED-TTL:PT1H
BEGIN:VTIMEZONE
TZID:America/New_York
BEGIN:DAYLIGHT
TZOFFSETFROM:-0500
TZOFFSETTO:-0400
TZNAME:EDT
DTSTART:20240310T070000
END:DAYLIGHT
BEGIN:STANDARD
TZOFFSETFROM:-0400
TZOFFSETTO:-0500
TZNAME:EST
DTSTART:20241103T060000
END:STANDARD
BEGIN:DAYLIGHT
TZOFFSETFROM:-0500
TZOFFSETTO:-0400
TZNAME:EDT
DTSTART:20250309T070000
END:DAYLIGHT
BEGIN:STANDARD
TZOFFSETFROM:-0400
TZOFFSETTO:-0500
TZNAME:EST
DTSTART:20251102T060000
END:STANDARD
BEGIN:DAYLIGHT
TZOFFSETFROM:-0500
TZOFFSETTO:-0400
TZNAME:EDT
DTSTART:20260308T070000
END:DAYLIGHT
BEGIN:STANDARD
TZOFFSETFROM:-0400
TZOFFSETTO:-0500
TZNAME:EST
DTSTART:20261101T060000
END:STANDARD
END:VTIMEZONE
BEGIN:VTIMEZONE
TZID:UTC
BEGIN:STANDARD
TZOFFSETFROM:+0000
TZOFFSETTO:+0000
TZNAME:UTC
DTSTART:20230101T000000
END:STANDARD
END:VTIMEZONE
BEGIN:VEVENT
DTSTART;TZID=America/New_York:20250926T190000
DTEND;TZID=America/New_York:20250926T200000
DTSTAMP:20260421T175304
CREATED:20250926T073746Z
LAST-MODIFIED:20250926T073746Z
UID:10011311-1758913200-1758916800@pfclassical.org
SUMMARY:Lenox\, MA Concert
DESCRIPTION:A Piatigorsky Foundation Concert is a free 1-hour performance by professional classical music artist(s). \nThis concert is not open to the public. \nArtist(s):\nJack Sanders\, Guitar
URL:https://pfclassical.org/event/lenox-ma-concert-2/
LOCATION:Kimball Farms\, 235 Walker Street\, Lenox\, MA\, 01240\, United States
GEO:42.3521317;-73.2717219
X-APPLE-STRUCTURED-LOCATION;VALUE=URI;X-ADDRESS=Kimball Farms 235 Walker Street Lenox MA 01240 United States;X-APPLE-RADIUS=500;X-TITLE=235 Walker Street:geo:-73.2717219,42.3521317
END:VEVENT
BEGIN:VEVENT
DTSTART;TZID=UTC:20240919T190000
DTEND;TZID=UTC:20240919T200000
DTSTAMP:20260421T175304
CREATED:20250123T040506Z
LAST-MODIFIED:20250123T040506Z
UID:10010166-1726772400-1726776000@pfclassical.org
SUMMARY:Lenox\, MA Concert
DESCRIPTION:A Piatigorsky Foundation Concert is a free 1-hour performance by professional classical music artist(s). The informal concerts are both entertaining and informative\, the artists share anecdotes and insights into the works they will perform. All concert times are in local time.This concert is not open to the public \nArtist(s):\nEvan Drachman\, CelloWan-Chi Su\, Piano
URL:https://pfclassical.org/event/lenox-ma-concert/
LOCATION:Kimball Farms\, 235 Walker Street\, Lenox\, MA\, 01240\, United States
GEO:42.3521317;-73.2717219
X-APPLE-STRUCTURED-LOCATION;VALUE=URI;X-ADDRESS=Kimball Farms 235 Walker Street Lenox MA 01240 United States;X-APPLE-RADIUS=500;X-TITLE=235 Walker Street:geo:-73.2717219,42.3521317
END:VEVENT
END:VCALENDAR