BEGIN:VCALENDAR
VERSION:2.0
PRODID:-//PF Classical - ECPv6.15.18//NONSGML v1.0//EN
CALSCALE:GREGORIAN
METHOD:PUBLISH
X-ORIGINAL-URL:https://pfclassical.org
X-WR-CALDESC:Events for PF Classical
REFRESH-INTERVAL;VALUE=DURATION:PT1H
X-Robots-Tag:noindex
X-PUBLISHED-TTL:PT1H
BEGIN:VTIMEZONE
TZID:America/New_York
BEGIN:DAYLIGHT
TZOFFSETFROM:-0500
TZOFFSETTO:-0400
TZNAME:EDT
DTSTART:20240310T070000
END:DAYLIGHT
BEGIN:STANDARD
TZOFFSETFROM:-0400
TZOFFSETTO:-0500
TZNAME:EST
DTSTART:20241103T060000
END:STANDARD
BEGIN:DAYLIGHT
TZOFFSETFROM:-0500
TZOFFSETTO:-0400
TZNAME:EDT
DTSTART:20250309T070000
END:DAYLIGHT
BEGIN:STANDARD
TZOFFSETFROM:-0400
TZOFFSETTO:-0500
TZNAME:EST
DTSTART:20251102T060000
END:STANDARD
BEGIN:DAYLIGHT
TZOFFSETFROM:-0500
TZOFFSETTO:-0400
TZNAME:EDT
DTSTART:20260308T070000
END:DAYLIGHT
BEGIN:STANDARD
TZOFFSETFROM:-0400
TZOFFSETTO:-0500
TZNAME:EST
DTSTART:20261101T060000
END:STANDARD
BEGIN:DAYLIGHT
TZOFFSETFROM:-0500
TZOFFSETTO:-0400
TZNAME:EDT
DTSTART:20270314T070000
END:DAYLIGHT
BEGIN:STANDARD
TZOFFSETFROM:-0400
TZOFFSETTO:-0500
TZNAME:EST
DTSTART:20271107T060000
END:STANDARD
END:VTIMEZONE
BEGIN:VEVENT
DTSTART;TZID=America/New_York:20260128T150000
DTEND;TZID=America/New_York:20260128T160000
DTSTAMP:20260420T132437
CREATED:20260128T083921Z
LAST-MODIFIED:20260128T083921Z
UID:10012407-1769612400-1769616000@pfclassical.org
SUMMARY:New York\, NY Concert
DESCRIPTION:This concert is sponsored by the Arlene Topal Creative Arts Fund. \nThis concert is not open to the public. \nArtist(s):\nEvan Drachman\, CelloChelsea Wang\, Piano
URL:https://pfclassical.org/event/new-york-ny-concert-4/
LOCATION:Isabella Center for Rehabilitation & Nursing Care\, 515 Audubon Avenue\, New York\, NY\, 10040\, United States
GEO:40.8542262;-73.9268889
X-APPLE-STRUCTURED-LOCATION;VALUE=URI;X-ADDRESS=Isabella Center for Rehabilitation & Nursing Care 515 Audubon Avenue New York NY 10040 United States;X-APPLE-RADIUS=500;X-TITLE=515 Audubon Avenue:geo:-73.9268889,40.8542262
END:VEVENT
BEGIN:VEVENT
DTSTART;TZID=America/New_York:20251001T150000
DTEND;TZID=America/New_York:20251001T160000
DTSTAMP:20260420T132437
CREATED:20251001T072207Z
LAST-MODIFIED:20251001T072207Z
UID:10011365-1759330800-1759334400@pfclassical.org
SUMMARY:New York\, NY Concert
DESCRIPTION:This concert is sponsored by the Arlene Topal Creative Arts Fund. A Piatigorsky Foundation Concert is a free 1-hour performance by professional classical music artist(s). The informal concerts are both entertaining and informative. \nThis concert is not open to the public. \nSponsored by Steven Topal \nArtist(s):\nKessa Mefford\, Piano
URL:https://pfclassical.org/event/new-york-ny-concert-2/
LOCATION:Isabella Center for Rehabilitation & Nursing Care\, 515 Audubon Avenue\, New York\, NY\, 10040\, United States
GEO:40.8542262;-73.9268889
X-APPLE-STRUCTURED-LOCATION;VALUE=URI;X-ADDRESS=Isabella Center for Rehabilitation & Nursing Care 515 Audubon Avenue New York NY 10040 United States;X-APPLE-RADIUS=500;X-TITLE=515 Audubon Avenue:geo:-73.9268889,40.8542262
END:VEVENT
END:VCALENDAR