BEGIN:VCALENDAR
VERSION:2.0
PRODID:-//PF Classical - ECPv6.15.18//NONSGML v1.0//EN
CALSCALE:GREGORIAN
METHOD:PUBLISH
X-ORIGINAL-URL:https://pfclassical.org
X-WR-CALDESC:Events for PF Classical
REFRESH-INTERVAL;VALUE=DURATION:PT1H
X-Robots-Tag:noindex
X-PUBLISHED-TTL:PT1H
BEGIN:VTIMEZONE
TZID:America/Chicago
BEGIN:DAYLIGHT
TZOFFSETFROM:-0600
TZOFFSETTO:-0500
TZNAME:CDT
DTSTART:20240310T080000
END:DAYLIGHT
BEGIN:STANDARD
TZOFFSETFROM:-0500
TZOFFSETTO:-0600
TZNAME:CST
DTSTART:20241103T070000
END:STANDARD
BEGIN:DAYLIGHT
TZOFFSETFROM:-0600
TZOFFSETTO:-0500
TZNAME:CDT
DTSTART:20250309T080000
END:DAYLIGHT
BEGIN:STANDARD
TZOFFSETFROM:-0500
TZOFFSETTO:-0600
TZNAME:CST
DTSTART:20251102T070000
END:STANDARD
BEGIN:DAYLIGHT
TZOFFSETFROM:-0600
TZOFFSETTO:-0500
TZNAME:CDT
DTSTART:20260308T080000
END:DAYLIGHT
BEGIN:STANDARD
TZOFFSETFROM:-0500
TZOFFSETTO:-0600
TZNAME:CST
DTSTART:20261101T070000
END:STANDARD
END:VTIMEZONE
BEGIN:VEVENT
DTSTART;TZID=America/Chicago:20250314T133000
DTEND;TZID=America/Chicago:20250314T143000
DTSTAMP:20260422T004723
CREATED:20250313T184642Z
LAST-MODIFIED:20250313T184642Z
UID:10010269-1741959000-1741962600@pfclassical.org
SUMMARY:Wayzata\, MN Concert
DESCRIPTION:A Piatigorsky Foundation Concert is a free 1-hour performance by professional classical music artist(s). The informal concerts are both entertaining and informative\, the artists share anecdotes and insights into the works they will perform. All concert times are in local time.This concert is not open to the public \nArtist(s):\nKatsuya Yuasa\, ClarinetMary Au\, Piano
URL:https://pfclassical.org/event/wayzata-mn-concert/
LOCATION:Folkestone Presbyterian Homes\, 100 Promenade Avenue\, Wayzata\, MN\, 55391\, United States
GEO:44.9690603;-93.5062787
X-APPLE-STRUCTURED-LOCATION;VALUE=URI;X-ADDRESS=Folkestone Presbyterian Homes 100 Promenade Avenue Wayzata MN 55391 United States;X-APPLE-RADIUS=500;X-TITLE=100 Promenade Avenue:geo:-93.5062787,44.9690603
END:VEVENT
END:VCALENDAR