BEGIN:VCALENDAR
VERSION:2.0
PRODID:-//PF Classical - ECPv6.15.18//NONSGML v1.0//EN
CALSCALE:GREGORIAN
METHOD:PUBLISH
X-WR-CALNAME:PF Classical
X-ORIGINAL-URL:https://pfclassical.org
X-WR-CALDESC:Events for PF Classical
REFRESH-INTERVAL;VALUE=DURATION:PT1H
X-Robots-Tag:noindex
X-PUBLISHED-TTL:PT1H
BEGIN:VTIMEZONE
TZID:America/New_York
BEGIN:DAYLIGHT
TZOFFSETFROM:-0500
TZOFFSETTO:-0400
TZNAME:EDT
DTSTART:20240310T070000
END:DAYLIGHT
BEGIN:STANDARD
TZOFFSETFROM:-0400
TZOFFSETTO:-0500
TZNAME:EST
DTSTART:20241103T060000
END:STANDARD
BEGIN:DAYLIGHT
TZOFFSETFROM:-0500
TZOFFSETTO:-0400
TZNAME:EDT
DTSTART:20250309T070000
END:DAYLIGHT
BEGIN:STANDARD
TZOFFSETFROM:-0400
TZOFFSETTO:-0500
TZNAME:EST
DTSTART:20251102T060000
END:STANDARD
BEGIN:DAYLIGHT
TZOFFSETFROM:-0500
TZOFFSETTO:-0400
TZNAME:EDT
DTSTART:20260308T070000
END:DAYLIGHT
BEGIN:STANDARD
TZOFFSETFROM:-0400
TZOFFSETTO:-0500
TZNAME:EST
DTSTART:20261101T060000
END:STANDARD
END:VTIMEZONE
BEGIN:VTIMEZONE
TZID:UTC
BEGIN:STANDARD
TZOFFSETFROM:+0000
TZOFFSETTO:+0000
TZNAME:UTC
DTSTART:20230101T000000
END:STANDARD
END:VTIMEZONE
BEGIN:VEVENT
DTSTART;TZID=America/New_York:20250929T103000
DTEND;TZID=America/New_York:20250929T113000
DTSTAMP:20260422T224534
CREATED:20250929T073027Z
LAST-MODIFIED:20250929T073027Z
UID:10011356-1759141800-1759145400@pfclassical.org
SUMMARY:Middlebury\, VT Concert
DESCRIPTION:Sponsored by Project Independence \nThis concert is not open to the public. \nArtist(s):\nJack Sanders\, Guitar
URL:https://pfclassical.org/event/middlebury-vt-concert-2/
LOCATION:Elderly Services\, Inc.\, P.O. Box 581\, Middlebury\, VT\, 05753\, United States
GEO:44.0151433;-73.1669554
X-APPLE-STRUCTURED-LOCATION;VALUE=URI;X-ADDRESS=Elderly Services Inc. P.O. Box 581 Middlebury VT 05753 United States;X-APPLE-RADIUS=500;X-TITLE=P.O. Box 581:geo:-73.1669554,44.0151433
END:VEVENT
BEGIN:VEVENT
DTSTART;TZID=UTC:20240923T103000
DTEND;TZID=UTC:20240923T113000
DTSTAMP:20260422T224534
CREATED:20250123T040504Z
LAST-MODIFIED:20250123T040504Z
UID:10010161-1727087400-1727091000@pfclassical.org
SUMMARY:Middlebury\, VT Concert
DESCRIPTION:A Piatigorsky Foundation Concert is a free 1-hour performance by professional classical music artist(s). The informal concerts are both entertaining and informative\, the artists share anecdotes and insights into the works they will perform. All concert times are in local time.This concert is not open to the publicSponsored by Project Independence \nArtist(s):\nEvan Drachman\, CelloWan-Chi Su\, Piano
URL:https://pfclassical.org/event/middlebury-vt-concert/
LOCATION:Elderly Services\, Inc.\, P.O. Box 581\, Middlebury\, VT\, 05753\, United States
GEO:44.0151433;-73.1669554
X-APPLE-STRUCTURED-LOCATION;VALUE=URI;X-ADDRESS=Elderly Services Inc. P.O. Box 581 Middlebury VT 05753 United States;X-APPLE-RADIUS=500;X-TITLE=P.O. Box 581:geo:-73.1669554,44.0151433
END:VEVENT
END:VCALENDAR