BEGIN:VCALENDAR
VERSION:2.0
PRODID:-//PF Classical - ECPv6.15.18//NONSGML v1.0//EN
CALSCALE:GREGORIAN
METHOD:PUBLISH
X-ORIGINAL-URL:https://pfclassical.org
X-WR-CALDESC:Events for PF Classical
REFRESH-INTERVAL;VALUE=DURATION:PT1H
X-Robots-Tag:noindex
X-PUBLISHED-TTL:PT1H
BEGIN:VTIMEZONE
TZID:America/New_York
BEGIN:DAYLIGHT
TZOFFSETFROM:-0500
TZOFFSETTO:-0400
TZNAME:EDT
DTSTART:20240310T070000
END:DAYLIGHT
BEGIN:STANDARD
TZOFFSETFROM:-0400
TZOFFSETTO:-0500
TZNAME:EST
DTSTART:20241103T060000
END:STANDARD
BEGIN:DAYLIGHT
TZOFFSETFROM:-0500
TZOFFSETTO:-0400
TZNAME:EDT
DTSTART:20250309T070000
END:DAYLIGHT
BEGIN:STANDARD
TZOFFSETFROM:-0400
TZOFFSETTO:-0500
TZNAME:EST
DTSTART:20251102T060000
END:STANDARD
BEGIN:DAYLIGHT
TZOFFSETFROM:-0500
TZOFFSETTO:-0400
TZNAME:EDT
DTSTART:20260308T070000
END:DAYLIGHT
BEGIN:STANDARD
TZOFFSETFROM:-0400
TZOFFSETTO:-0500
TZNAME:EST
DTSTART:20261101T060000
END:STANDARD
END:VTIMEZONE
BEGIN:VTIMEZONE
TZID:UTC
BEGIN:STANDARD
TZOFFSETFROM:+0000
TZOFFSETTO:+0000
TZNAME:UTC
DTSTART:20230101T000000
END:STANDARD
END:VTIMEZONE
BEGIN:VEVENT
DTSTART;TZID=America/New_York:20250930T130000
DTEND;TZID=America/New_York:20250930T140000
DTSTAMP:20260419T223821
CREATED:20250930T072356Z
LAST-MODIFIED:20250930T072356Z
UID:10011362-1759237200-1759240800@pfclassical.org
SUMMARY:Brookline\, MA Concert
DESCRIPTION:A Piatigorsky Foundation Concert is a free 1-hour performance by professional classical music artist(s). \nThis concert is open to the public. \nArtist(s):\nJack Sanders\, Guitar
URL:https://pfclassical.org/event/brookline-ma-concert-2/
LOCATION:Brookline Senior Center\, 93 Winchester Street\, Brookline\, MA\, 02446\, United States
GEO:42.3436517;-71.1278033
X-APPLE-STRUCTURED-LOCATION;VALUE=URI;X-ADDRESS=Brookline Senior Center 93 Winchester Street Brookline MA 02446 United States;X-APPLE-RADIUS=500;X-TITLE=93 Winchester Street:geo:-71.1278033,42.3436517
END:VEVENT
BEGIN:VEVENT
DTSTART;TZID=UTC:20240919T130000
DTEND;TZID=UTC:20240919T140000
DTSTAMP:20260419T223821
CREATED:20250123T040506Z
LAST-MODIFIED:20250123T040506Z
UID:10010167-1726750800-1726754400@pfclassical.org
SUMMARY:Brookline\, MA Concert
DESCRIPTION:A Piatigorsky Foundation Concert is a free 1-hour performance by professional classical music artist(s). The informal concerts are both entertaining and informative\, the artists share anecdotes and insights into the works they will perform. All concert times are in local time.This concert is open to the publicSponsored by Fox Hill Village \nArtist(s):\nEvan Drachman\, CelloWan-Chi Su\, Piano
URL:https://pfclassical.org/event/brookline-ma-concert/
LOCATION:Brookline Senior Center\, 93 Winchester Street\, Brookline\, MA\, 02446\, United States
GEO:42.3436517;-71.1278033
X-APPLE-STRUCTURED-LOCATION;VALUE=URI;X-ADDRESS=Brookline Senior Center 93 Winchester Street Brookline MA 02446 United States;X-APPLE-RADIUS=500;X-TITLE=93 Winchester Street:geo:-71.1278033,42.3436517
END:VEVENT
END:VCALENDAR