BEGIN:VCALENDAR
VERSION:2.0
PRODID:-//PF Classical - ECPv6.15.18//NONSGML v1.0//EN
CALSCALE:GREGORIAN
METHOD:PUBLISH
X-ORIGINAL-URL:https://pfclassical.org
X-WR-CALDESC:Events for PF Classical
REFRESH-INTERVAL;VALUE=DURATION:PT1H
X-Robots-Tag:noindex
X-PUBLISHED-TTL:PT1H
BEGIN:VTIMEZONE
TZID:America/New_York
BEGIN:DAYLIGHT
TZOFFSETFROM:-0500
TZOFFSETTO:-0400
TZNAME:EDT
DTSTART:20240310T070000
END:DAYLIGHT
BEGIN:STANDARD
TZOFFSETFROM:-0400
TZOFFSETTO:-0500
TZNAME:EST
DTSTART:20241103T060000
END:STANDARD
BEGIN:DAYLIGHT
TZOFFSETFROM:-0500
TZOFFSETTO:-0400
TZNAME:EDT
DTSTART:20250309T070000
END:DAYLIGHT
BEGIN:STANDARD
TZOFFSETFROM:-0400
TZOFFSETTO:-0500
TZNAME:EST
DTSTART:20251102T060000
END:STANDARD
BEGIN:DAYLIGHT
TZOFFSETFROM:-0500
TZOFFSETTO:-0400
TZNAME:EDT
DTSTART:20260308T070000
END:DAYLIGHT
BEGIN:STANDARD
TZOFFSETFROM:-0400
TZOFFSETTO:-0500
TZNAME:EST
DTSTART:20261101T060000
END:STANDARD
END:VTIMEZONE
BEGIN:VEVENT
DTSTART;TZID=America/New_York:20250116T190000
DTEND;TZID=America/New_York:20250116T200000
DTSTAMP:20260422T173125
CREATED:20250123T040452Z
LAST-MODIFIED:20250123T040452Z
UID:10010105-1737054000-1737057600@pfclassical.org
SUMMARY:Bel Air\, MD Concert
DESCRIPTION:A Piatigorsky Foundation Concert is a free 1-hour performance by professional classical music artist(s). The informal concerts are both entertaining and informative\, the artists share anecdotes and insights into the works they will perform. All concert times are in local time.This concert is not open to the publicFor Information: 410-638-8100 \nArtist(s):\nDoris Stevenson\, Piano
URL:https://pfclassical.org/event/bel-air-md-concert/
LOCATION:Brightview Avondell\, 128 West Ring Factory Road\, Bel Air\, MD\, 21014\, United States
GEO:39.5138277;-76.3408062
X-APPLE-STRUCTURED-LOCATION;VALUE=URI;X-ADDRESS=Brightview Avondell 128 West Ring Factory Road Bel Air MD 21014 United States;X-APPLE-RADIUS=500;X-TITLE=128 West Ring Factory Road:geo:-76.3408062,39.5138277
END:VEVENT
END:VCALENDAR