BEGIN:VCALENDAR
VERSION:2.0
PRODID:-//PF Classical - ECPv6.15.18//NONSGML v1.0//EN
CALSCALE:GREGORIAN
METHOD:PUBLISH
X-ORIGINAL-URL:https://pfclassical.org
X-WR-CALDESC:Events for PF Classical
REFRESH-INTERVAL;VALUE=DURATION:PT1H
X-Robots-Tag:noindex
X-PUBLISHED-TTL:PT1H
BEGIN:VTIMEZONE
TZID:UTC
BEGIN:STANDARD
TZOFFSETFROM:+0000
TZOFFSETTO:+0000
TZNAME:UTC
DTSTART:20230101T000000
END:STANDARD
END:VTIMEZONE
BEGIN:VEVENT
DTSTART;TZID=UTC:20240920T160000
DTEND;TZID=UTC:20240920T170000
DTSTAMP:20260421T180300
CREATED:20250123T040505Z
LAST-MODIFIED:20250123T040505Z
UID:10010164-1726848000-1726851600@pfclassical.org
SUMMARY:Brighton\, MA Concert
DESCRIPTION:A Piatigorsky Foundation Concert is a free 1-hour performance by professional classical music artist(s). The informal concerts are both entertaining and informative\, the artists share anecdotes and insights into the works they will perform. All concert times are in local time.This concert is open to the public \nArtist(s):\nEvan Drachman\, CelloWan-Chi Su\, Piano
URL:https://pfclassical.org/event/brighton-ma-concert/
LOCATION:B’nai B’rith Covenant House (Brighton)\, 30 Washington Street\, Brighton\, MA\, 02135\, United States
GEO:42.3430242;-71.1421039
X-APPLE-STRUCTURED-LOCATION;VALUE=URI;X-ADDRESS=B’nai B’rith Covenant House (Brighton) 30 Washington Street Brighton MA 02135 United States;X-APPLE-RADIUS=500;X-TITLE=30 Washington Street:geo:-71.1421039,42.3430242
END:VEVENT
END:VCALENDAR