BEGIN:VCALENDAR
VERSION:2.0
PRODID:-//PF Classical - ECPv6.15.18//NONSGML v1.0//EN
CALSCALE:GREGORIAN
METHOD:PUBLISH
X-ORIGINAL-URL:https://pfclassical.org
X-WR-CALDESC:Events for PF Classical
REFRESH-INTERVAL;VALUE=DURATION:PT1H
X-Robots-Tag:noindex
X-PUBLISHED-TTL:PT1H
BEGIN:VTIMEZONE
TZID:America/New_York
BEGIN:DAYLIGHT
TZOFFSETFROM:-0500
TZOFFSETTO:-0400
TZNAME:EDT
DTSTART:20240310T070000
END:DAYLIGHT
BEGIN:STANDARD
TZOFFSETFROM:-0400
TZOFFSETTO:-0500
TZNAME:EST
DTSTART:20241103T060000
END:STANDARD
BEGIN:DAYLIGHT
TZOFFSETFROM:-0500
TZOFFSETTO:-0400
TZNAME:EDT
DTSTART:20250309T070000
END:DAYLIGHT
BEGIN:STANDARD
TZOFFSETFROM:-0400
TZOFFSETTO:-0500
TZNAME:EST
DTSTART:20251102T060000
END:STANDARD
BEGIN:DAYLIGHT
TZOFFSETFROM:-0500
TZOFFSETTO:-0400
TZNAME:EDT
DTSTART:20260308T070000
END:DAYLIGHT
BEGIN:STANDARD
TZOFFSETFROM:-0400
TZOFFSETTO:-0500
TZNAME:EST
DTSTART:20261101T060000
END:STANDARD
END:VTIMEZONE
BEGIN:VTIMEZONE
TZID:UTC
BEGIN:STANDARD
TZOFFSETFROM:+0000
TZOFFSETTO:+0000
TZNAME:UTC
DTSTART:20240101T000000
END:STANDARD
END:VTIMEZONE
BEGIN:VEVENT
DTSTART;TZID=America/New_York:20251102T190000
DTEND;TZID=America/New_York:20251102T200000
DTSTAMP:20260422T223050
CREATED:20251102T075214Z
LAST-MODIFIED:20251102T075214Z
UID:10011675-1762110000-1762113600@pfclassical.org
SUMMARY:Easton\, MD Concert
DESCRIPTION:A Piatigorsky Foundation Concert is a free 1-hour performance by professional classical music artist(s). \nThis concert is not open to the public. \nArtist(s):\nEvan Drachman\, CelloWan-Chi Su\, Piano
URL:https://pfclassical.org/event/easton-md-concert-2/
LOCATION:Bayleigh Chase\, 501 Dutchmans Lane\, Easton\, MD\, 21601\, United States
GEO:38.7627073;-76.0675494
X-APPLE-STRUCTURED-LOCATION;VALUE=URI;X-ADDRESS=Bayleigh Chase 501 Dutchmans Lane Easton MD 21601 United States;X-APPLE-RADIUS=500;X-TITLE=501 Dutchmans Lane:geo:-76.0675494,38.7627073
END:VEVENT
BEGIN:VEVENT
DTSTART;TZID=UTC:20250114T143000
DTEND;TZID=UTC:20250114T153000
DTSTAMP:20260422T223050
CREATED:20250123T040452Z
LAST-MODIFIED:20250123T040452Z
UID:10010107-1736865000-1736868600@pfclassical.org
SUMMARY:Easton\, MD Concert
DESCRIPTION:A Piatigorsky Foundation Concert is a free 1-hour performance by professional classical music artist(s). The informal concerts are both entertaining and informative\, the artists share anecdotes and insights into the works they will perform. All concert times are in local time.This concert is not open to the publicPlease call for reservations: 410-882-8888\, Ext. 3549 \nArtist(s):\nDoris Stevenson\, Piano
URL:https://pfclassical.org/event/easton-md-concert/
LOCATION:Bayleigh Chase\, 501 Dutchmans Lane\, Easton\, MD\, 21601\, United States
GEO:38.7627073;-76.0675494
X-APPLE-STRUCTURED-LOCATION;VALUE=URI;X-ADDRESS=Bayleigh Chase 501 Dutchmans Lane Easton MD 21601 United States;X-APPLE-RADIUS=500;X-TITLE=501 Dutchmans Lane:geo:-76.0675494,38.7627073
END:VEVENT
END:VCALENDAR