BEGIN:VCALENDAR
VERSION:2.0
PRODID:-//PF Classical - ECPv6.15.18//NONSGML v1.0//EN
CALSCALE:GREGORIAN
METHOD:PUBLISH
X-WR-CALNAME:PF Classical
X-ORIGINAL-URL:https://pfclassical.org
X-WR-CALDESC:Events for PF Classical
REFRESH-INTERVAL;VALUE=DURATION:PT1H
X-Robots-Tag:noindex
X-PUBLISHED-TTL:PT1H
BEGIN:VTIMEZONE
TZID:America/Denver
BEGIN:DAYLIGHT
TZOFFSETFROM:-0700
TZOFFSETTO:-0600
TZNAME:MDT
DTSTART:20250309T090000
END:DAYLIGHT
BEGIN:STANDARD
TZOFFSETFROM:-0600
TZOFFSETTO:-0700
TZNAME:MST
DTSTART:20251102T080000
END:STANDARD
BEGIN:DAYLIGHT
TZOFFSETFROM:-0700
TZOFFSETTO:-0600
TZNAME:MDT
DTSTART:20260308T090000
END:DAYLIGHT
BEGIN:STANDARD
TZOFFSETFROM:-0600
TZOFFSETTO:-0700
TZNAME:MST
DTSTART:20261101T080000
END:STANDARD
BEGIN:DAYLIGHT
TZOFFSETFROM:-0700
TZOFFSETTO:-0600
TZNAME:MDT
DTSTART:20270314T090000
END:DAYLIGHT
BEGIN:STANDARD
TZOFFSETFROM:-0600
TZOFFSETTO:-0700
TZNAME:MST
DTSTART:20271107T080000
END:STANDARD
END:VTIMEZONE
BEGIN:VEVENT
DTSTART;TZID=America/Denver:20260502T170000
DTEND;TZID=America/Denver:20260502T180000
DTSTAMP:20260421T014313
CREATED:20260420T091354Z
LAST-MODIFIED:20260420T091354Z
UID:10013486-1777741200-1777744800@pfclassical.org
SUMMARY:Douglas\, WY Concert
DESCRIPTION:Sponsored by The Muriel & Seymour Thickman Family Charitable Foundation \nThis concert is open to the public. \nSponsored by Sy Thickman \nArtist(s):\nGabriel Evens\, PianoKatherine Calcamuggio Donner\, Mezzo-soprano
URL:https://pfclassical.org/event/douglas-wy-concert/
END:VEVENT
BEGIN:VEVENT
DTSTART;TZID=America/Denver:20260503T140000
DTEND;TZID=America/Denver:20260503T150000
DTSTAMP:20260421T014313
CREATED:20260420T091254Z
LAST-MODIFIED:20260420T091254Z
UID:10013485-1777816800-1777820400@pfclassical.org
SUMMARY:Cheyenne\, WY Concert
DESCRIPTION:Sponsored by The Muriel & Seymour Thickman Family Charitable Foundation \nThis concert is open to the public. \nSponsored by Sy Thickman \nArtist(s):\nGabriel Evens\, PianoKatherine Calcamuggio Donner\, Mezzo-soprano
URL:https://pfclassical.org/event/cheyenne-wy-concert/
END:VEVENT
BEGIN:VEVENT
DTSTART;TZID=America/Denver:20260504T091000
DTEND;TZID=America/Denver:20260504T101000
DTSTAMP:20260421T014313
CREATED:20260420T091112Z
LAST-MODIFIED:20260420T091112Z
UID:10013484-1777885800-1777889400@pfclassical.org
SUMMARY:Torrington\, WY Concert
DESCRIPTION:Sponsored by The Muriel & Seymour Thickman Family Charitable Foundation \nThis concert is open to the public. \nSponsored by Sy Thickman \nArtist(s):\nKatherine Calcamuggio Donner\, Mezzo-sopranoGabriel Evens\, Piano
URL:https://pfclassical.org/event/torrington-wy-concert-2/
END:VEVENT
BEGIN:VEVENT
DTSTART;TZID=America/Denver:20260504T101500
DTEND;TZID=America/Denver:20260504T111500
DTSTAMP:20260421T014313
CREATED:20260420T090958Z
LAST-MODIFIED:20260420T090958Z
UID:10013483-1777889700-1777893300@pfclassical.org
SUMMARY:Torrington\, WY Concert
DESCRIPTION:Sponsored by The Muriel & Seymour Thickman Family Charitable Foundation \nThis concert is open to the public. \nSponsored by Sy Thickman \nArtist(s):\nGabriel Evens\, PianoKatherine Calcamuggio Donner\, Mezzo-soprano
URL:https://pfclassical.org/event/torrington-wy-concert/
END:VEVENT
BEGIN:VEVENT
DTSTART;TZID=America/Denver:20260505T183000
DTEND;TZID=America/Denver:20260505T193000
DTSTAMP:20260421T014313
CREATED:20260420T090750Z
LAST-MODIFIED:20260420T090750Z
UID:10013481-1778005800-1778009400@pfclassical.org
SUMMARY:Lusk\, WY Concert
DESCRIPTION:Sponsored by The Muriel & Seymour Thickman Family Charitable Foundation \nThis concert is open to the public. \nSponsored by Sy Thickman \nArtist(s):\nKatherine Calcamuggio Donner\, Mezzo-sopranoGabriel Evens\, Piano
URL:https://pfclassical.org/event/lusk-wy-concert/
END:VEVENT
BEGIN:VEVENT
DTSTART;TZID=America/Denver:20260505T183000
DTEND;TZID=America/Denver:20260505T193000
DTSTAMP:20260421T014313
CREATED:20260420T090854Z
LAST-MODIFIED:20260420T090854Z
UID:10013482-1778005800-1778009400@pfclassical.org
SUMMARY:Lusk\, WY Concert
DESCRIPTION:Sponsored by The Muriel & Seymour Thickman Family Charitable Foundation \nThis concert is open to the public. \nSponsored by Sy Thickman
URL:https://pfclassical.org/event/lusk-wy-concert-2/
END:VEVENT
BEGIN:VEVENT
DTSTART;TZID=America/Denver:20260506T110000
DTEND;TZID=America/Denver:20260506T120000
DTSTAMP:20260421T014313
CREATED:20260420T090619Z
LAST-MODIFIED:20260420T090619Z
UID:10013480-1778065200-1778068800@pfclassical.org
SUMMARY:Upton\, WY Concert
DESCRIPTION:Sponsored by The Muriel & Seymour Thickman Family Charitable Foundation \nThis concert is open to the public. \nSponsored by Sy Thickman \nArtist(s):\nKatherine Calcamuggio Donner\, Mezzo-sopranoGabriel Evens\, Piano
URL:https://pfclassical.org/event/upton-wy-concert/
END:VEVENT
BEGIN:VEVENT
DTSTART;TZID=America/Denver:20260506T130000
DTEND;TZID=America/Denver:20260506T140000
DTSTAMP:20260421T014313
CREATED:20260420T090508Z
LAST-MODIFIED:20260420T090508Z
UID:10013479-1778072400-1778076000@pfclassical.org
SUMMARY:Newcastle\, WY Concert
DESCRIPTION:Sponsored by The Muriel & Seymour Thickman Family Charitable Foundation \nThis concert is open to the public. \nSponsored by Sy Thickman \nArtist(s):\nGabriel Evens\, PianoKatherine Calcamuggio Donner\, Mezzo-soprano
URL:https://pfclassical.org/event/newcastle-wy-concert/
END:VEVENT
BEGIN:VEVENT
DTSTART;TZID=America/Denver:20260507T095000
DTEND;TZID=America/Denver:20260507T105000
DTSTAMP:20260421T014313
CREATED:20260420T090320Z
LAST-MODIFIED:20260420T090320Z
UID:10013478-1778147400-1778151000@pfclassical.org
SUMMARY:Moorcroft\, WY Concert
DESCRIPTION:Sponsored by The Muriel & Seymour Thickman Family Charitable Foundation \nThis concert is open to the public. \nSponsored by Sy Thickman \nArtist(s):\nKatherine Calcamuggio Donner\, Mezzo-sopranoGabriel Evens\, Piano
URL:https://pfclassical.org/event/moorcroft-wy-concert/
END:VEVENT
END:VCALENDAR